BEGIN:VCALENDAR
METHOD:PUBLISH
PRODID:-//LogicWorks GmbH//NONSGML Contentory//EN
VERSION:2.0
CALSCALE:GREGORIAN
X-MS-OLK-FORCEINSPECTOROPEN:TRUE
BEGIN:VEVENT
DTSTAMP:20260421T144705Z
SUMMARY:Scientific Writing 11/2026
DESCRIPTION:Register@DokMS\r\nHITEC_Scientific Writing_11/2026_05./06.11.2026_online
LOCATION:online
CREATED:20250505T100819
LAST-MODIFIED:20250513T092241
DTSTART;VALUE=DATE:20261105T090000
DTEND;VALUE=DATE:20261106T150000
UID:sn_286_date_0@logic-works.net
END:VEVENT
END:VCALENDAR