BEGIN:VCALENDAR
METHOD:PUBLISH
PRODID:-//LogicWorks GmbH//NONSGML Contentory//EN
VERSION:2.0
CALSCALE:GREGORIAN
X-MS-OLK-FORCEINSPECTOROPEN:TRUE
BEGIN:VEVENT
DTSTAMP:20260422T112635Z
SUMMARY:Management of a Doctoral Project 4/2026
DESCRIPTION:Register@DokMS\r\nHITEC_Management of a Doctoral Project_4/2026_20./21.04.
 2026
LOCATION:Building 04.7\, Room 338
CREATED:20250505T102350
LAST-MODIFIED:20250505T102350
DTSTART;VALUE=DATE:20260420T090000
DTEND;VALUE=DATE:20260421T160000
UID:sn_292_date_0@logic-works.net
END:VEVENT
END:VCALENDAR