BEGIN:VCALENDAR
METHOD:PUBLISH
PRODID:-//LogicWorks GmbH//NONSGML Contentory//EN
VERSION:2.0
CALSCALE:GREGORIAN
X-MS-OLK-FORCEINSPECTOROPEN:TRUE
BEGIN:VEVENT
DTSTAMP:20260425T143021Z
SUMMARY:Management of a Doctoral Project 10/2026
DESCRIPTION:Register@DokMS\r\nHITEC_Management of a Doctoral Project_10/2026_20./21.10
 .2026_online
LOCATION:online
CREATED:20250505T103419
LAST-MODIFIED:20260422T163717
DTSTART;VALUE=DATE:20261020T090000
DTEND;VALUE=DATE:20261021T150000
UID:sn_298_date_0@logic-works.net
END:VEVENT
END:VCALENDAR