BEGIN:VCALENDAR
METHOD:PUBLISH
PRODID:-//LogicWorks GmbH//NONSGML Contentory//EN
VERSION:2.0
CALSCALE:GREGORIAN
X-MS-OLK-FORCEINSPECTOROPEN:TRUE
BEGIN:VEVENT
DTSTAMP:20260425T142105Z
SUMMARY:Management of a Doctoral Project 11/2026
DESCRIPTION:Register@DokMS\r\nHITEC_Management of a Doctoral Project_11/2026_09./10.11
 .2026_online
LOCATION:online
CREATED:20250505T103953
LAST-MODIFIED:20260422T163731
DTSTART;VALUE=DATE:20261109T090000
DTEND;VALUE=DATE:20261110T150000
UID:sn_299_date_0@logic-works.net
END:VEVENT
END:VCALENDAR