BEGIN:VCALENDAR
METHOD:PUBLISH
PRODID:-//LogicWorks GmbH//NONSGML Contentory//EN
VERSION:2.0
CALSCALE:GREGORIAN
X-MS-OLK-FORCEINSPECTOROPEN:TRUE
BEGIN:VEVENT
DTSTAMP:20260421T101827Z
SUMMARY:CANCELED! - Orientation Week 1/2026
DESCRIPTION:The event has been canceled!
LOCATION:Building 04.7\, Room 338
CREATED:20250505T130255
LAST-MODIFIED:20260303T134507
DTSTART;VALUE=DATE:20260323T090000
DTEND;VALUE=DATE:20260325T160000
UID:sn_317_date_0@logic-works.net
END:VEVENT
END:VCALENDAR