BEGIN:VCALENDAR
METHOD:PUBLISH
PRODID:-//LogicWorks GmbH//NONSGML Contentory//EN
VERSION:2.0
CALSCALE:GREGORIAN
X-MS-OLK-FORCEINSPECTOROPEN:TRUE
BEGIN:VEVENT
DTSTAMP:20260421T145231Z
SUMMARY:HITEC_Scientific Writing_1/2027_12./13.01.2027_online
DESCRIPTION:Register@DokMS\r\nHITEC_Scientific Writing_1/2027_12./13.01.2027_online
LOCATION:online
CREATED:20260416T113034
LAST-MODIFIED:20260420T111434
DTSTART;VALUE=DATE:20270112T090000
DTEND;VALUE=DATE:20270113T150000
UID:sn_350_date_0@logic-works.net
END:VEVENT
END:VCALENDAR